BEGIN:VCALENDAR
VERSION:2.0
PRODID:-//Teatro Stradanuova - ECPv5.9.0//NONSGML v1.0//EN
CALSCALE:GREGORIAN
METHOD:PUBLISH
X-WR-CALNAME:Teatro Stradanuova
X-ORIGINAL-URL:https://www.teatrostradanuova.it
X-WR-CALDESC:Eventi per Teatro Stradanuova
BEGIN:VTIMEZONE
TZID:Europe/Helsinki
BEGIN:DAYLIGHT
TZOFFSETFROM:+0200
TZOFFSETTO:+0300
TZNAME:EEST
DTSTART:20220327T010000
END:DAYLIGHT
BEGIN:STANDARD
TZOFFSETFROM:+0300
TZOFFSETTO:+0200
TZNAME:EET
DTSTART:20221030T010000
END:STANDARD
END:VTIMEZONE
BEGIN:VEVENT
DTSTART;TZID=Europe/Helsinki:20220305T210000
DTEND;TZID=Europe/Helsinki:20220305T230000
DTSTAMP:20260419T173838
CREATED:20211218T145118Z
LAST-MODIFIED:20220131T205830Z
UID:2127-1646514000-1646521200@www.teatrostradanuova.it
SUMMARY:Fabio Celenza Live + Canto i Muri con Chibo
DESCRIPTION:
URL:https://www.teatrostradanuova.it/spettacolo/fabio-celenza-chibo-canto-i-muri/
CATEGORIES:2021/2022
ATTACH;FMTTYPE=image/png:https://www.teatrostradanuova.it/wp-content/uploads/2021/12/fabio-celenza-e1639835321422.png
END:VEVENT
BEGIN:VEVENT
DTSTART;TZID=Europe/Helsinki:20220311T210000
DTEND;TZID=Europe/Helsinki:20220311T230000
DTSTAMP:20260419T173838
CREATED:20211218T145638Z
LAST-MODIFIED:20211218T145638Z
UID:2131-1647032400-1647039600@www.teatrostradanuova.it
SUMMARY:Dr. Disagio Live
DESCRIPTION:
URL:https://www.teatrostradanuova.it/spettacolo/dr-disagio-live-francesco-arienzo/
CATEGORIES:2021/2022
ATTACH;FMTTYPE=image/jpeg:https://www.teatrostradanuova.it/wp-content/uploads/2021/12/Francesco-Arienzo-e1639835697389.jpeg
END:VEVENT
BEGIN:VEVENT
DTSTART;TZID=Europe/Helsinki:20220312T210000
DTEND;TZID=Europe/Helsinki:20220312T230000
DTSTAMP:20260419T173838
CREATED:20211218T133406Z
LAST-MODIFIED:20220110T212113Z
UID:2087-1647118800-1647126000@www.teatrostradanuova.it
SUMMARY:Barabba - Corso di sopravvivenza al paese reale
DESCRIPTION:
URL:https://www.teatrostradanuova.it/spettacolo/barabba-il-terzo-segreto-di-satira/
CATEGORIES:2021/2022
ATTACH;FMTTYPE=image/png:https://www.teatrostradanuova.it/wp-content/uploads/2021/12/il-terzo-segreto-di-satira-e1639830641311.png
END:VEVENT
BEGIN:VEVENT
DTSTART;TZID=Europe/Helsinki:20220318T210000
DTEND;TZID=Europe/Helsinki:20220318T230000
DTSTAMP:20260419T173838
CREATED:20210916T151557Z
LAST-MODIFIED:20211218T145806Z
UID:714-1647637200-1647644400@www.teatrostradanuova.it
SUMMARY:The Eleazaro Experience - Entusiasmi del tutto inopportuni
DESCRIPTION:
URL:https://www.teatrostradanuova.it/spettacolo/spettacolo-eleazaro-experience/
CATEGORIES:2021/2022
ATTACH;FMTTYPE=image/jpeg:https://www.teatrostradanuova.it/wp-content/uploads/2021/09/Eleazaro.jpg
END:VEVENT
BEGIN:VEVENT
DTSTART;TZID=Europe/Helsinki:20220325T210000
DTEND;TZID=Europe/Helsinki:20220325T210000
DTSTAMP:20260419T173838
CREATED:20211218T150219Z
LAST-MODIFIED:20220314T161648Z
UID:2135-1648242000-1648242000@www.teatrostradanuova.it
SUMMARY:Stonato!
DESCRIPTION:
URL:https://www.teatrostradanuova.it/spettacolo/andrea-di-marco-stonato/
CATEGORIES:2021/2022
ATTACH;FMTTYPE=image/jpeg:https://www.teatrostradanuova.it/wp-content/uploads/2021/12/Andrea_Di_Marco___ph_Francesca_Gazzolo_9-quadrato-scaled-e1639856512555.jpg
END:VEVENT
END:VCALENDAR