BEGIN:VCALENDAR
VERSION:2.0
PRODID:-//Teatro Stradanuova - ECPv5.9.0//NONSGML v1.0//EN
CALSCALE:GREGORIAN
METHOD:PUBLISH
X-WR-CALNAME:Teatro Stradanuova
X-ORIGINAL-URL:https://www.teatrostradanuova.it
X-WR-CALDESC:Eventi per Teatro Stradanuova
BEGIN:VTIMEZONE
TZID:Europe/Helsinki
BEGIN:DAYLIGHT
TZOFFSETFROM:+0200
TZOFFSETTO:+0300
TZNAME:EEST
DTSTART:20220327T010000
END:DAYLIGHT
BEGIN:STANDARD
TZOFFSETFROM:+0300
TZOFFSETTO:+0200
TZNAME:EET
DTSTART:20221030T010000
END:STANDARD
END:VTIMEZONE
BEGIN:VEVENT
DTSTART;TZID=Europe/Helsinki:20220203T210000
DTEND;TZID=Europe/Helsinki:20220203T230000
DTSTAMP:20260419T173839
CREATED:20211218T140739Z
LAST-MODIFIED:20211218T140739Z
UID:2103-1643922000-1643929200@www.teatrostradanuova.it
SUMMARY:Pensieri Stupendi
DESCRIPTION:
URL:https://www.teatrostradanuova.it/spettacolo/pensieri-stupendi-francesco-de-carlo/
CATEGORIES:2021/2022
ATTACH;FMTTYPE=image/jpeg:https://www.teatrostradanuova.it/wp-content/uploads/2021/12/Francesco-De-Carlo-scaled-e1639832659964.jpg
END:VEVENT
BEGIN:VEVENT
DTSTART;TZID=Europe/Helsinki:20220205T210000
DTEND;TZID=Europe/Helsinki:20220205T230000
DTSTAMP:20260419T173839
CREATED:20211218T141204Z
LAST-MODIFIED:20211218T141204Z
UID:2105-1644094800-1644102000@www.teatrostradanuova.it
SUMMARY:Non mi sento tanto bene
DESCRIPTION:
URL:https://www.teatrostradanuova.it/spettacolo/pietro-casella-non-mi-sento-tanto-bene/
CATEGORIES:2021/2022
ATTACH;FMTTYPE=image/jpeg:https://www.teatrostradanuova.it/wp-content/uploads/2021/12/PHOTO-2020-03-06-16-37-21-4-e1639833002450.jpg
END:VEVENT
BEGIN:VEVENT
DTSTART;TZID=Europe/Helsinki:20220212T210000
DTEND;TZID=Europe/Helsinki:20220212T230000
DTSTAMP:20260419T173839
CREATED:20211218T142123Z
LAST-MODIFIED:20211218T142123Z
UID:2112-1644699600-1644706800@www.teatrostradanuova.it
SUMMARY:Vostro malgrado\, Tommaso Faoro
DESCRIPTION:
URL:https://www.teatrostradanuova.it/spettacolo/vostro-malgrado-tommaso-faoro/
CATEGORIES:2021/2022
ATTACH;FMTTYPE=image/jpeg:https://www.teatrostradanuova.it/wp-content/uploads/2021/12/faoro-e1639833624136.jpeg
END:VEVENT
BEGIN:VEVENT
DTSTART;TZID=Europe/Helsinki:20220218T210000
DTEND;TZID=Europe/Helsinki:20220218T210000
DTSTAMP:20260419T173839
CREATED:20220113T214047Z
LAST-MODIFIED:20220113T214047Z
UID:2186-1645218000-1645218000@www.teatrostradanuova.it
SUMMARY:London Valour
DESCRIPTION:
URL:https://www.teatrostradanuova.it/spettacolo/london-valour-2022/
CATEGORIES:Stradanuova in rete
ATTACH;FMTTYPE=image/jpeg:https://www.teatrostradanuova.it/wp-content/uploads/2022/01/London-Valour.jpg
END:VEVENT
BEGIN:VEVENT
DTSTART;TZID=Europe/Helsinki:20220219T210000
DTEND;TZID=Europe/Helsinki:20220219T230000
DTSTAMP:20260419T173839
CREATED:20211218T143110Z
LAST-MODIFIED:20220131T205622Z
UID:2118-1645304400-1645311600@www.teatrostradanuova.it
SUMMARY:Stand Up & Songs
DESCRIPTION:
URL:https://www.teatrostradanuova.it/spettacolo/ruggero-de-i-timidi-stand-up-e-songs/
CATEGORIES:2021/2022
ATTACH;FMTTYPE=image/jpeg:https://www.teatrostradanuova.it/wp-content/uploads/2021/12/Ruggero-de-i-Timidi-e1639834171542.jpg
END:VEVENT
BEGIN:VEVENT
DTSTART;TZID=Europe/Helsinki:20220225T210000
DTEND;TZID=Europe/Helsinki:20220225T230000
DTSTAMP:20260419T173839
CREATED:20211218T143350Z
LAST-MODIFIED:20211218T143951Z
UID:2121-1645822800-1645830000@www.teatrostradanuova.it
SUMMARY:Dilemma
DESCRIPTION:
URL:https://www.teatrostradanuova.it/spettacolo/dilemma/
CATEGORIES:2021/2022
ATTACH;FMTTYPE=image/jpeg:https://www.teatrostradanuova.it/wp-content/uploads/2021/12/daniele-tinti-foto-profilo-2020-e1639834408545.jpg
END:VEVENT
BEGIN:VEVENT
DTSTART;VALUE=DATE:20220226
DTEND;VALUE=DATE:20220228
DTSTAMP:20260419T173839
CREATED:20220124T205916Z
LAST-MODIFIED:20220126T091657Z
UID:2198-1645833600-1646006399@www.teatrostradanuova.it
SUMMARY:La mia sfiga può farti ridere - workshop di comicità - Febbraio 2022
DESCRIPTION:
URL:https://www.teatrostradanuova.it/spettacolo/la-mia-sfiga-puo-farti-ridere-workshop-di-comicita/
CATEGORIES:Altri eventi
ATTACH;FMTTYPE=image/jpeg:https://www.teatrostradanuova.it/wp-content/uploads/2021/11/Antonio-Ornano-e1636888593818.jpg
END:VEVENT
BEGIN:VEVENT
DTSTART;TZID=Europe/Helsinki:20220226T210000
DTEND;TZID=Europe/Helsinki:20220226T230000
DTSTAMP:20260419T173839
CREATED:20211218T143841Z
LAST-MODIFIED:20211218T143916Z
UID:2123-1645909200-1645916400@www.teatrostradanuova.it
SUMMARY:Sono una brutta persona (ma una fantastica scimmia)
DESCRIPTION:
URL:https://www.teatrostradanuova.it/spettacolo/mary-sarnataro-live/
CATEGORIES:2021/2022
ATTACH;FMTTYPE=image/jpeg:https://www.teatrostradanuova.it/wp-content/uploads/2021/12/Mary-sarnataro.jpg
END:VEVENT
END:VCALENDAR