BEGIN:VCALENDAR
VERSION:2.0
PRODID:-//Teatro Stradanuova - ECPv5.9.0//NONSGML v1.0//EN
CALSCALE:GREGORIAN
METHOD:PUBLISH
X-WR-CALNAME:Teatro Stradanuova
X-ORIGINAL-URL:https://www.teatrostradanuova.it
X-WR-CALDESC:Eventi per Teatro Stradanuova
BEGIN:VTIMEZONE
TZID:Europe/Helsinki
BEGIN:DAYLIGHT
TZOFFSETFROM:+0200
TZOFFSETTO:+0300
TZNAME:EEST
DTSTART:20210328T010000
END:DAYLIGHT
BEGIN:STANDARD
TZOFFSETFROM:+0300
TZOFFSETTO:+0200
TZNAME:EET
DTSTART:20211031T010000
END:STANDARD
END:VTIMEZONE
BEGIN:VEVENT
DTSTART;TZID=Europe/Helsinki:20211204T193000
DTEND;TZID=Europe/Helsinki:20211204T233000
DTSTAMP:20260419T234220
CREATED:20210916T153119Z
LAST-MODIFIED:20211104T161944Z
UID:724-1638646200-1638660600@www.teatrostradanuova.it
SUMMARY:Velia Lalli Live
DESCRIPTION:
URL:https://www.teatrostradanuova.it/spettacolo/una-donna-senza-qualita/
CATEGORIES:2021/2022
ATTACH;FMTTYPE=image/jpeg:https://www.teatrostradanuova.it/wp-content/uploads/2021/09/tcc-lalli-3-velia.jpg
END:VEVENT
BEGIN:VEVENT
DTSTART;TZID=Europe/Helsinki:20211211T193000
DTEND;TZID=Europe/Helsinki:20211211T233000
DTSTAMP:20260419T234220
CREATED:20210916T153838Z
LAST-MODIFIED:20211007T200222Z
UID:730-1639251000-1639265400@www.teatrostradanuova.it
SUMMARY:Pizza sul gelato
DESCRIPTION:
URL:https://www.teatrostradanuova.it/spettacolo/pizza-sul-gelato/
CATEGORIES:2021/2022
ATTACH;FMTTYPE=image/jpeg:https://www.teatrostradanuova.it/wp-content/uploads/2021/09/Yamada-1.jpg
END:VEVENT
BEGIN:VEVENT
DTSTART;TZID=Europe/Helsinki:20211217T193000
DTEND;TZID=Europe/Helsinki:20211217T233000
DTSTAMP:20260419T234220
CREATED:20210916T154736Z
LAST-MODIFIED:20211104T124846Z
UID:733-1639769400-1639783800@www.teatrostradanuova.it
SUMMARY:Stefano Rapone Live
DESCRIPTION:
URL:https://www.teatrostradanuova.it/spettacolo/stefano-rapone-live-2/
CATEGORIES:2021/2022
ATTACH;FMTTYPE=image/jpeg:https://www.teatrostradanuova.it/wp-content/uploads/2021/09/rapone-live-2021-quadrata1.jpg
END:VEVENT
BEGIN:VEVENT
DTSTART;TZID=Europe/Helsinki:20211231T193000
DTEND;TZID=Europe/Helsinki:20211231T235900
DTSTAMP:20260419T234220
CREATED:20211214T221508Z
LAST-MODIFIED:20211227T192041Z
UID:2000-1640979000-1640995140@www.teatrostradanuova.it
SUMMARY:Anno nuovo in Stradanuova: Pandolce VS Panettone 2021
DESCRIPTION:
URL:https://www.teatrostradanuova.it/spettacolo/spettacolo-capodanno-2021/
CATEGORIES:2021/2022
ATTACH;FMTTYPE=image/jpeg:https://www.teatrostradanuova.it/wp-content/uploads/2021/12/pandolce-vs-panettone.jpg
END:VEVENT
END:VCALENDAR