BEGIN:VCALENDAR
VERSION:2.0
PRODID:-//Teatro Stradanuova - ECPv5.9.0//NONSGML v1.0//EN
CALSCALE:GREGORIAN
METHOD:PUBLISH
X-WR-CALNAME:Teatro Stradanuova
X-ORIGINAL-URL:https://www.teatrostradanuova.it
X-WR-CALDESC:Eventi per Teatro Stradanuova
BEGIN:VTIMEZONE
TZID:Europe/Helsinki
BEGIN:DAYLIGHT
TZOFFSETFROM:+0200
TZOFFSETTO:+0300
TZNAME:EEST
DTSTART:20210328T010000
END:DAYLIGHT
BEGIN:STANDARD
TZOFFSETFROM:+0300
TZOFFSETTO:+0200
TZNAME:EET
DTSTART:20211031T010000
END:STANDARD
END:VTIMEZONE
BEGIN:VEVENT
DTSTART;TZID=Europe/Helsinki:20211009T163000
DTEND;TZID=Europe/Helsinki:20211009T213000
DTSTAMP:20260420T024217
CREATED:20211003T193151Z
LAST-MODIFIED:20211006T074401Z
UID:1640-1633797000-1633815000@www.teatrostradanuova.it
SUMMARY:Zenasingers - Sulle onde della musica
DESCRIPTION:
URL:https://www.teatrostradanuova.it/spettacolo/zenasingers-sulle-onde-della-musica/
CATEGORIES:Altri eventi
ATTACH;FMTTYPE=image/jpeg:https://www.teatrostradanuova.it/wp-content/uploads/2021/10/FOTO-ZENA-SINGERS-e1633285654871.jpg
END:VEVENT
BEGIN:VEVENT
DTSTART;TZID=Europe/Helsinki:20211029T193000
DTEND;TZID=Europe/Helsinki:20211029T193000
DTSTAMP:20260420T024217
CREATED:20210916T142225Z
LAST-MODIFIED:20211005T162541Z
UID:701-1635535800-1635535800@www.teatrostradanuova.it
SUMMARY:Ciacci Sognare - Puntata Zero
DESCRIPTION:
URL:https://www.teatrostradanuova.it/spettacolo/ciacci-sognare/
CATEGORIES:2021/2022
ATTACH;FMTTYPE=image/jpeg:https://www.teatrostradanuova.it/wp-content/uploads/2021/09/Ciacci-2.jpg
END:VEVENT
END:VCALENDAR