BEGIN:VCALENDAR
VERSION:2.0
PRODID:-//Teatro Stradanuova - ECPv5.9.0//NONSGML v1.0//EN
CALSCALE:GREGORIAN
METHOD:PUBLISH
X-WR-CALNAME:Teatro Stradanuova
X-ORIGINAL-URL:https://www.teatrostradanuova.it
X-WR-CALDESC:Eventi per Teatro Stradanuova
BEGIN:VTIMEZONE
TZID:Europe/Helsinki
BEGIN:DAYLIGHT
TZOFFSETFROM:+0200
TZOFFSETTO:+0300
TZNAME:EEST
DTSTART:20200329T010000
END:DAYLIGHT
BEGIN:STANDARD
TZOFFSETFROM:+0300
TZOFFSETTO:+0200
TZNAME:EET
DTSTART:20201025T010000
END:STANDARD
END:VTIMEZONE
BEGIN:VEVENT
DTSTART;TZID=Europe/Helsinki:20201001T080000
DTEND;TZID=Europe/Helsinki:20201001T170000
DTSTAMP:20260422T234639
CREATED:20210913T162006Z
LAST-MODIFIED:20210921T114531Z
UID:196-1601539200-1601571600@www.teatrostradanuova.it
SUMMARY:Marta & Gianluca – “Strapazzami di coccole”
DESCRIPTION:
URL:https://www.teatrostradanuova.it/spettacolo/marta-gianluca-strapazzami-di-coccole/
CATEGORIES:2020/2021
ATTACH;FMTTYPE=image/jpeg:https://www.teatrostradanuova.it/wp-content/uploads/2021/09/marta-e-gianluca-1920x1080-1-1.jpg
END:VEVENT
BEGIN:VEVENT
DTSTART;TZID=Europe/Helsinki:20201005T000000
DTEND;TZID=Europe/Helsinki:20201005T000000
DTSTAMP:20260422T234639
CREATED:20210913T162117Z
LAST-MODIFIED:20210921T114327Z
UID:199-1601856000-1601856000@www.teatrostradanuova.it
SUMMARY:Marco Bazzoni “Baz” – La verità rende single
DESCRIPTION:
URL:https://www.teatrostradanuova.it/spettacolo/marco-bazzoni-baz-la-verita-rende-single/
CATEGORIES:2020/2021
ATTACH;FMTTYPE=image/jpeg:https://www.teatrostradanuova.it/wp-content/uploads/2021/09/baz-1920x1080-1.jpg
END:VEVENT
BEGIN:VEVENT
DTSTART;TZID=Europe/Helsinki:20201005T080000
DTEND;TZID=Europe/Helsinki:20201005T170000
DTSTAMP:20260422T234639
CREATED:20210913T160159Z
LAST-MODIFIED:20210921T113636Z
UID:186-1601884800-1601917200@www.teatrostradanuova.it
SUMMARY:Alessandro Ciacci\, con una “F”
DESCRIPTION:
URL:https://www.teatrostradanuova.it/spettacolo/alessandro-ciacci-con-una-f/
CATEGORIES:2020/2021
ATTACH;FMTTYPE=image/jpeg:https://www.teatrostradanuova.it/wp-content/uploads/2021/09/ciacci-1920.jpg
END:VEVENT
BEGIN:VEVENT
DTSTART;TZID=Europe/Helsinki:20201005T080000
DTEND;TZID=Europe/Helsinki:20201005T170000
DTSTAMP:20260422T234639
CREATED:20210913T161717Z
LAST-MODIFIED:20210921T113014Z
UID:190-1601884800-1601917200@www.teatrostradanuova.it
SUMMARY:Faccia di Cane e altre Bestie
DESCRIPTION:
URL:https://www.teatrostradanuova.it/spettacolo/faccia-di-cane-e-altre-bestie/
CATEGORIES:2020/2021
ATTACH;FMTTYPE=image/jpeg:https://www.teatrostradanuova.it/wp-content/uploads/2021/09/bianchi-1920x1080-1.jpg
END:VEVENT
BEGIN:VEVENT
DTSTART;TZID=Europe/Helsinki:20201007T080000
DTEND;TZID=Europe/Helsinki:20201007T170000
DTSTAMP:20260422T234639
CREATED:20210913T154631Z
LAST-MODIFIED:20210921T112430Z
UID:171-1602057600-1602090000@www.teatrostradanuova.it
SUMMARY:Stefano Rapone live
DESCRIPTION:
URL:https://www.teatrostradanuova.it/spettacolo/stefano-rapone-live/
CATEGORIES:2020/2021
ATTACH;FMTTYPE=image/jpeg:https://www.teatrostradanuova.it/wp-content/uploads/2021/09/rapone-1920x1080-1.jpg
END:VEVENT
BEGIN:VEVENT
DTSTART;TZID=Europe/Helsinki:20201012T080000
DTEND;TZID=Europe/Helsinki:20201012T170000
DTSTAMP:20260422T234639
CREATED:20210913T162439Z
LAST-MODIFIED:20210921T112148Z
UID:204-1602489600-1602522000@www.teatrostradanuova.it
SUMMARY:Massimiliano Loizzi – “Il Re Nudo”
DESCRIPTION:
URL:https://www.teatrostradanuova.it/spettacolo/massimiliano-loizzi-il-re-nudo/
CATEGORIES:2020/2021
ATTACH;FMTTYPE=image/jpeg:https://www.teatrostradanuova.it/wp-content/uploads/2021/09/FotodiScena1.jpg.jpg
END:VEVENT
BEGIN:VEVENT
DTSTART;TZID=Europe/Helsinki:20201012T080000
DTEND;TZID=Europe/Helsinki:20201012T170000
DTSTAMP:20260422T234639
CREATED:20210913T162642Z
LAST-MODIFIED:20210921T111931Z
UID:207-1602489600-1602522000@www.teatrostradanuova.it
SUMMARY:Saverio Raimondo Live
DESCRIPTION:
URL:https://www.teatrostradanuova.it/spettacolo/saverio-raimondo-live/
CATEGORIES:2020/2021
ATTACH;FMTTYPE=image/jpeg:https://www.teatrostradanuova.it/wp-content/uploads/2021/09/raimondo-1920x1080-2.jpg
END:VEVENT
BEGIN:VEVENT
DTSTART;TZID=Europe/Helsinki:20201012T080000
DTEND;TZID=Europe/Helsinki:20201012T170000
DTSTAMP:20260422T234639
CREATED:20210913T163351Z
LAST-MODIFIED:20210921T111813Z
UID:213-1602489600-1602522000@www.teatrostradanuova.it
SUMMARY:La Gallina – Storie di azzardo e altre storie con Daniele Raco
DESCRIPTION:
URL:https://www.teatrostradanuova.it/spettacolo/la-gallina-storie-di-azzardo-e-altre-storie-con-daniele-raco/
CATEGORIES:2019/2020
ATTACH;FMTTYPE=image/jpeg:https://www.teatrostradanuova.it/wp-content/uploads/2021/09/1920x1080-la-gallina.jpg
END:VEVENT
BEGIN:VEVENT
DTSTART;TZID=Europe/Helsinki:20201013T080000
DTEND;TZID=Europe/Helsinki:20201013T170000
DTSTAMP:20260422T234639
CREATED:20210913T155418Z
LAST-MODIFIED:20210921T111552Z
UID:183-1602576000-1602608400@www.teatrostradanuova.it
SUMMARY:Sono una brutta persona (ma una fantastica scimmia)
DESCRIPTION:
URL:https://www.teatrostradanuova.it/spettacolo/sono-una-brutta-persona-ma-una-fantastica-scimmia/
CATEGORIES:2020/2021
ATTACH;FMTTYPE=image/jpeg:https://www.teatrostradanuova.it/wp-content/uploads/2021/09/sarnatano-1920x1080-1.jpg
END:VEVENT
BEGIN:VEVENT
DTSTART;TZID=Europe/Helsinki:20201013T080000
DTEND;TZID=Europe/Helsinki:20201013T170000
DTSTAMP:20260422T234639
CREATED:20210913T162326Z
LAST-MODIFIED:20210921T111332Z
UID:201-1602576000-1602608400@www.teatrostradanuova.it
SUMMARY:Michela Giraud – “Almeno non ho precedenti penali”
DESCRIPTION:
URL:https://www.teatrostradanuova.it/spettacolo/michela-giraud-almeno-non-ho-precedenti-penali/
CATEGORIES:2020/2021
ATTACH;FMTTYPE=image/jpeg:https://www.teatrostradanuova.it/wp-content/uploads/2021/09/giraud-1920.jpg
END:VEVENT
END:VCALENDAR