BEGIN:VCALENDAR
VERSION:2.0
PRODID:-//Teatro Stradanuova - ECPv5.9.0//NONSGML v1.0//EN
CALSCALE:GREGORIAN
METHOD:PUBLISH
X-WR-CALNAME:Teatro Stradanuova
X-ORIGINAL-URL:https://www.teatrostradanuova.it
X-WR-CALDESC:Eventi per Teatro Stradanuova
BEGIN:VTIMEZONE
TZID:Europe/Helsinki
BEGIN:DAYLIGHT
TZOFFSETFROM:+0200
TZOFFSETTO:+0300
TZNAME:EEST
DTSTART:20190331T010000
END:DAYLIGHT
BEGIN:STANDARD
TZOFFSETFROM:+0300
TZOFFSETTO:+0200
TZNAME:EET
DTSTART:20191027T010000
END:STANDARD
END:VTIMEZONE
BEGIN:VEVENT
DTSTART;TZID=Europe/Helsinki:20190402T080000
DTEND;TZID=Europe/Helsinki:20190402T170000
DTSTAMP:20260424T020116
CREATED:20210914T085624Z
LAST-MODIFIED:20210921T145028Z
UID:301-1554192000-1554224400@www.teatrostradanuova.it
SUMMARY:Ginnastica\, Dieta e Sesso per Tardone
DESCRIPTION:
URL:https://www.teatrostradanuova.it/spettacolo/ginnastica-dieta-e-sesso-per-tardone-2/
CATEGORIES:2019/2018
ATTACH;FMTTYPE=image/jpeg:https://www.teatrostradanuova.it/wp-content/uploads/2021/09/sesso-per-tardone-the-day-after.jpg
END:VEVENT
END:VCALENDAR