BEGIN:VCALENDAR
VERSION:2.0
PRODID:-//Teatro Stradanuova - ECPv5.9.0//NONSGML v1.0//EN
CALSCALE:GREGORIAN
METHOD:PUBLISH
X-WR-CALNAME:Teatro Stradanuova
X-ORIGINAL-URL:https://www.teatrostradanuova.it
X-WR-CALDESC:Eventi per Teatro Stradanuova
BEGIN:VTIMEZONE
TZID:Europe/Paris
BEGIN:DAYLIGHT
TZOFFSETFROM:+0100
TZOFFSETTO:+0200
TZNAME:CEST
DTSTART:20220327T010000
END:DAYLIGHT
BEGIN:STANDARD
TZOFFSETFROM:+0200
TZOFFSETTO:+0100
TZNAME:CET
DTSTART:20221030T010000
END:STANDARD
BEGIN:DAYLIGHT
TZOFFSETFROM:+0100
TZOFFSETTO:+0200
TZNAME:CEST
DTSTART:20230326T010000
END:DAYLIGHT
BEGIN:STANDARD
TZOFFSETFROM:+0200
TZOFFSETTO:+0100
TZNAME:CET
DTSTART:20231029T010000
END:STANDARD
TZID:Europe/Helsinki
BEGIN:DAYLIGHT
TZOFFSETFROM:+0200
TZOFFSETTO:+0300
TZNAME:EEST
DTSTART:20210328T010000
END:DAYLIGHT
BEGIN:STANDARD
TZOFFSETFROM:+0300
TZOFFSETTO:+0200
TZNAME:EET
DTSTART:20211031T010000
END:STANDARD
BEGIN:DAYLIGHT
TZOFFSETFROM:+0200
TZOFFSETTO:+0300
TZNAME:EEST
DTSTART:20220327T010000
END:DAYLIGHT
BEGIN:STANDARD
TZOFFSETFROM:+0300
TZOFFSETTO:+0200
TZNAME:EET
DTSTART:20221030T010000
END:STANDARD
END:VTIMEZONE
BEGIN:VEVENT
DTSTART;TZID=Europe/Paris:20230212T140000
DTEND;TZID=Europe/Paris:20230212T180000
DTSTAMP:20260421T123815
CREATED:20221202T215644Z
LAST-MODIFIED:20221210T143531Z
UID:2760-1676210400-1676224800@www.teatrostradanuova.it
SUMMARY:Praticare Scrittura - "Nel paesaggio"
DESCRIPTION:
URL:https://www.teatrostradanuova.it/spettacolo/praticare-scrittura-nel-paesaggio/
CATEGORIES:Stradanuova in rete
ATTACH;FMTTYPE=image/jpeg:https://www.teatrostradanuova.it/wp-content/uploads/2022/12/3.jpg
END:VEVENT
BEGIN:VEVENT
DTSTART;TZID=Europe/Paris:20221204T140000
DTEND;TZID=Europe/Paris:20221204T180000
DTSTAMP:20260421T123815
CREATED:20221202T215308Z
LAST-MODIFIED:20221202T215739Z
UID:2753-1670162400-1670176800@www.teatrostradanuova.it
SUMMARY:Praticare Scrittura - "Oltre la specie"
DESCRIPTION:
URL:https://www.teatrostradanuova.it/spettacolo/praticare-scrittura-oltre-la-specie/
CATEGORIES:2022/2023,Stradanuova in rete
ATTACH;FMTTYPE=image/jpeg:https://www.teatrostradanuova.it/wp-content/uploads/2022/12/2.jpg
END:VEVENT
BEGIN:VEVENT
DTSTART;TZID=Europe/Helsinki:20220413T213000
DTEND;TZID=Europe/Helsinki:20220413T233000
DTSTAMP:20260421T123815
CREATED:20211115T185306Z
LAST-MODIFIED:20211115T185628Z
UID:1967-1649885400-1649892600@www.teatrostradanuova.it
SUMMARY:King Hannah
DESCRIPTION:
URL:https://www.teatrostradanuova.it/spettacolo/king-hannah/
CATEGORIES:Stradanuova in rete
ATTACH;FMTTYPE=image/jpeg:https://www.teatrostradanuova.it/wp-content/uploads/2021/11/KingHannah_NotSorry-PhotoOnly_2048px-e1636998703783.jpg
END:VEVENT
BEGIN:VEVENT
DTSTART;TZID=Europe/Helsinki:20220218T210000
DTEND;TZID=Europe/Helsinki:20220218T210000
DTSTAMP:20260421T123815
CREATED:20220113T214047Z
LAST-MODIFIED:20220113T214047Z
UID:2186-1645218000-1645218000@www.teatrostradanuova.it
SUMMARY:London Valour
DESCRIPTION:
URL:https://www.teatrostradanuova.it/spettacolo/london-valour-2022/
CATEGORIES:Stradanuova in rete
ATTACH;FMTTYPE=image/jpeg:https://www.teatrostradanuova.it/wp-content/uploads/2022/01/London-Valour.jpg
END:VEVENT
BEGIN:VEVENT
DTSTART;TZID=Europe/Helsinki:20211125T213000
DTEND;TZID=Europe/Helsinki:20211125T233000
DTSTAMP:20260421T123815
CREATED:20211011T211043Z
LAST-MODIFIED:20211110T082741Z
UID:1799-1637875800-1637883000@www.teatrostradanuova.it
SUMMARY:Charlie Risso +  Milo Scaglioni
DESCRIPTION:
URL:https://www.teatrostradanuova.it/spettacolo/tornado-charlie-risso/
CATEGORIES:Stradanuova in rete
ATTACH;FMTTYPE=image/jpeg:https://www.teatrostradanuova.it/wp-content/uploads/2021/10/05_CHARLIERISSO_306-1-scaled-e1633982828482.jpg
END:VEVENT
BEGIN:VEVENT
DTSTART;TZID=Europe/Helsinki:20211107T180000
DTEND;TZID=Europe/Helsinki:20211107T193000
DTSTAMP:20260421T123815
CREATED:20211022T180510Z
LAST-MODIFIED:20211022T195952Z
UID:1820-1636308000-1636313400@www.teatrostradanuova.it
SUMMARY:Gemito Comico
DESCRIPTION:
URL:https://www.teatrostradanuova.it/spettacolo/gemito-comico/
CATEGORIES:Stradanuova in rete
ATTACH;FMTTYPE=image/jpeg:https://www.teatrostradanuova.it/wp-content/uploads/2021/10/Locandinagemito-e1634922164449.jpg
END:VEVENT
END:VCALENDAR