BEGIN:VCALENDAR
VERSION:2.0
PRODID:-//Teatro Stradanuova - ECPv5.9.0//NONSGML v1.0//EN
CALSCALE:GREGORIAN
METHOD:PUBLISH
X-WR-CALNAME:Teatro Stradanuova
X-ORIGINAL-URL:https://www.teatrostradanuova.it
X-WR-CALDESC:Eventi per Teatro Stradanuova
BEGIN:VTIMEZONE
TZID:Europe/Paris
BEGIN:DAYLIGHT
TZOFFSETFROM:+0100
TZOFFSETTO:+0200
TZNAME:CEST
DTSTART:20220327T010000
END:DAYLIGHT
BEGIN:STANDARD
TZOFFSETFROM:+0200
TZOFFSETTO:+0100
TZNAME:CET
DTSTART:20221030T010000
END:STANDARD
BEGIN:DAYLIGHT
TZOFFSETFROM:+0100
TZOFFSETTO:+0200
TZNAME:CEST
DTSTART:20230326T010000
END:DAYLIGHT
BEGIN:STANDARD
TZOFFSETFROM:+0200
TZOFFSETTO:+0100
TZNAME:CET
DTSTART:20231029T010000
END:STANDARD
TZID:Europe/Helsinki
BEGIN:DAYLIGHT
TZOFFSETFROM:+0200
TZOFFSETTO:+0300
TZNAME:EEST
DTSTART:20210328T010000
END:DAYLIGHT
BEGIN:STANDARD
TZOFFSETFROM:+0300
TZOFFSETTO:+0200
TZNAME:EET
DTSTART:20211031T010000
END:STANDARD
BEGIN:DAYLIGHT
TZOFFSETFROM:+0200
TZOFFSETTO:+0300
TZNAME:EEST
DTSTART:20220327T010000
END:DAYLIGHT
BEGIN:STANDARD
TZOFFSETFROM:+0300
TZOFFSETTO:+0200
TZNAME:EET
DTSTART:20221030T010000
END:STANDARD
END:VTIMEZONE
BEGIN:VEVENT
DTSTART;TZID=Europe/Paris:20230713T210000
DTEND;TZID=Europe/Paris:20230713T230000
DTSTAMP:20260420T114901
CREATED:20230605T150021Z
LAST-MODIFIED:20230708T104851Z
UID:3169-1689282000-1689289200@www.teatrostradanuova.it
SUMMARY:"Battuta!" @Sporting Club Genova
DESCRIPTION:
URL:https://www.teatrostradanuova.it/spettacolo/battuta-torneo-stand-up-comedy-comicity-festival-2023-genova/
CATEGORIES:2022/2023,Altri eventi,Comicity Festival 5a edizione
ATTACH;FMTTYPE=image/jpeg:https://www.teatrostradanuova.it/wp-content/uploads/2023/06/hoi-pham-eLZwsPO8cCQ-unsplash-scaled-e1685738005225.jpg
END:VEVENT
BEGIN:VEVENT
DTSTART;TZID=Europe/Paris:20230707T183000
DTEND;TZID=Europe/Paris:20230707T200000
DTSTAMP:20260420T114901
CREATED:20230605T150028Z
LAST-MODIFIED:20230626T122848Z
UID:3159-1688754600-1688760000@www.teatrostradanuova.it
SUMMARY:"Scienza e risata: un dialogo aperto" @Giardino Mentelocale Bistrot a Palazzo Rosso
DESCRIPTION:
URL:https://www.teatrostradanuova.it/spettacolo/scienza-e-risata-durso-fausto-caruana-genova-comicity-festival-2023/
CATEGORIES:2022/2023,Altri eventi,Comicity Festival 5a edizione
ATTACH;FMTTYPE=image/jpeg:https://www.teatrostradanuova.it/wp-content/uploads/2023/06/Caruana-855-e1685736023998.jpg
END:VEVENT
BEGIN:VEVENT
DTSTART;TZID=Europe/Paris:20230529T210000
DTEND;TZID=Europe/Paris:20230529T230000
DTSTAMP:20260420T114901
CREATED:20230321T130636Z
LAST-MODIFIED:20230323T133245Z
UID:3093-1685394000-1685401200@www.teatrostradanuova.it
SUMMARY:“Scusate\, avete riso?” Spettacolo conclusivo del Comicity Lab 2022-2023
DESCRIPTION:
URL:https://www.teatrostradanuova.it/spettacolo/scusate-avete-riso-spettacolo-conclusivo-del-comicity-lab-2022-2023/
CATEGORIES:Altri eventi
ATTACH;FMTTYPE=image/jpeg:https://www.teatrostradanuova.it/wp-content/uploads/2022/12/durso-prova.jpg
END:VEVENT
BEGIN:VEVENT
DTSTART;VALUE=DATE:20230115
DTEND;VALUE=DATE:20230121
DTSTAMP:20260420T114901
CREATED:20221222T202942Z
LAST-MODIFIED:20230104T093828Z
UID:2892-1673740800-1674259199@www.teatrostradanuova.it
SUMMARY:Nulla era stato concordato
DESCRIPTION:
URL:https://www.teatrostradanuova.it/spettacolo/nulla-era-stato-concordato/
CATEGORIES:Altri eventi
ATTACH;FMTTYPE=image/jpeg:https://www.teatrostradanuova.it/wp-content/uploads/2022/12/DS-scaled-e1671659446621.jpg
END:VEVENT
BEGIN:VEVENT
DTSTART;VALUE=DATE:20221023
DTEND;VALUE=DATE:20221024
DTSTAMP:20260420T114901
CREATED:20220922T123740Z
LAST-MODIFIED:20220922T124136Z
UID:2566-1666483200-1666569599@www.teatrostradanuova.it
SUMMARY:Open Day Laboratori di teatro per adulti e adolescenti
DESCRIPTION:
URL:https://www.teatrostradanuova.it/spettacolo/open-day-laboratori-di-teatro-per-adulti-e-adolescenti/
CATEGORIES:2022/2023,Altri eventi,Comicity Festival 4a edizione
ATTACH;FMTTYPE=image/jpeg:https://www.teatrostradanuova.it/wp-content/uploads/2022/03/eleonora-durso-teatro-attrice.jpg
END:VEVENT
BEGIN:VEVENT
DTSTART;VALUE=DATE:20221022
DTEND;VALUE=DATE:20221024
DTSTAMP:20260420T114901
CREATED:20220922T122320Z
LAST-MODIFIED:20220922T122320Z
UID:2560-1666396800-1666569599@www.teatrostradanuova.it
SUMMARY:Workshop di Stand Up Comedy con Daniele Raco
DESCRIPTION:
URL:https://www.teatrostradanuova.it/spettacolo/workshop-di-stand-up-comedy-con-daniele-raco/
CATEGORIES:2022/2023,Altri eventi,Comicity Festival 4a edizione
ATTACH;FMTTYPE=image/jpeg:https://www.teatrostradanuova.it/wp-content/uploads/2021/09/daniele-Raco.jpg
END:VEVENT
BEGIN:VEVENT
DTSTART;TZID=Europe/Paris:20220606T210000
DTEND;TZID=Europe/Paris:20220606T230000
DTSTAMP:20260420T114901
CREATED:20220515T194857Z
LAST-MODIFIED:20220515T194857Z
UID:2452-1654549200-1654556400@www.teatrostradanuova.it
SUMMARY:Saggio finale Comicity lab 2021-2022 - Sketcheessssss!
DESCRIPTION:
URL:https://www.teatrostradanuova.it/spettacolo/saggio-finale-comicity-lab-2021-2022-sketcheessssss/
CATEGORIES:Altri eventi
ATTACH;FMTTYPE=image/jpeg:https://www.teatrostradanuova.it/wp-content/uploads/2022/03/eleonora-durso-teatro-attrice.jpg
END:VEVENT
BEGIN:VEVENT
DTSTART;VALUE=DATE:20220226
DTEND;VALUE=DATE:20220228
DTSTAMP:20260420T114901
CREATED:20220124T205916Z
LAST-MODIFIED:20220126T091657Z
UID:2198-1645833600-1646006399@www.teatrostradanuova.it
SUMMARY:La mia sfiga può farti ridere - workshop di comicità - Febbraio 2022
DESCRIPTION:
URL:https://www.teatrostradanuova.it/spettacolo/la-mia-sfiga-puo-farti-ridere-workshop-di-comicita/
CATEGORIES:Altri eventi
ATTACH;FMTTYPE=image/jpeg:https://www.teatrostradanuova.it/wp-content/uploads/2021/11/Antonio-Ornano-e1636888593818.jpg
END:VEVENT
BEGIN:VEVENT
DTSTART;VALUE=DATE:20220123
DTEND;VALUE=DATE:20220131
DTSTAMP:20260420T114901
CREATED:20220110T214159Z
LAST-MODIFIED:20220113T212312Z
UID:2177-1642896000-1643587199@www.teatrostradanuova.it
SUMMARY:E qualcosa rimane - Laboratorio di scrittura di sè a cura di Officina Letteraria
DESCRIPTION:
URL:https://www.teatrostradanuova.it/spettacolo/e-qualcosa-rimane/
CATEGORIES:Altri eventi
ATTACH;FMTTYPE=image/jpeg:https://www.teatrostradanuova.it/wp-content/uploads/2022/01/e-qualcosa-rimane.jpg
END:VEVENT
BEGIN:VEVENT
DTSTART;VALUE=DATE:20220115
DTEND;VALUE=DATE:20220117
DTSTAMP:20260420T114901
CREATED:20220110T213152Z
LAST-MODIFIED:20220110T213152Z
UID:2173-1642204800-1642377599@www.teatrostradanuova.it
SUMMARY:La mia sfiga può farti ridere - workshop di comicità
DESCRIPTION:
URL:https://www.teatrostradanuova.it/spettacolo/la-mia-sfiga-workshop/
CATEGORIES:Altri eventi
ATTACH;FMTTYPE=image/jpeg:https://www.teatrostradanuova.it/wp-content/uploads/2021/11/Antonio-Ornano-e1636888593818.jpg
END:VEVENT
BEGIN:VEVENT
DTSTART;TZID=Europe/Helsinki:20211009T163000
DTEND;TZID=Europe/Helsinki:20211009T213000
DTSTAMP:20260420T114901
CREATED:20211003T193151Z
LAST-MODIFIED:20211006T074401Z
UID:1640-1633797000-1633815000@www.teatrostradanuova.it
SUMMARY:Zenasingers - Sulle onde della musica
DESCRIPTION:
URL:https://www.teatrostradanuova.it/spettacolo/zenasingers-sulle-onde-della-musica/
CATEGORIES:Altri eventi
ATTACH;FMTTYPE=image/jpeg:https://www.teatrostradanuova.it/wp-content/uploads/2021/10/FOTO-ZENA-SINGERS-e1633285654871.jpg
END:VEVENT
END:VCALENDAR