BEGIN:VCALENDAR
VERSION:2.0
PRODID:-//Teatro Stradanuova - ECPv5.9.0//NONSGML v1.0//EN
CALSCALE:GREGORIAN
METHOD:PUBLISH
X-WR-CALNAME:Teatro Stradanuova
X-ORIGINAL-URL:https://www.teatrostradanuova.it
X-WR-CALDESC:Eventi per Teatro Stradanuova
BEGIN:VTIMEZONE
TZID:Europe/Paris
BEGIN:DAYLIGHT
TZOFFSETFROM:+0100
TZOFFSETTO:+0200
TZNAME:CEST
DTSTART:20230326T010000
END:DAYLIGHT
BEGIN:STANDARD
TZOFFSETFROM:+0200
TZOFFSETTO:+0100
TZNAME:CET
DTSTART:20231029T010000
END:STANDARD
END:VTIMEZONE
BEGIN:VEVENT
DTSTART;TZID=Europe/Paris:20230714T210000
DTEND;TZID=Europe/Paris:20230714T230000
DTSTAMP:20260420T114216
CREATED:20230605T150034Z
LAST-MODIFIED:20230626T123110Z
UID:3178-1689368400-1689375600@www.teatrostradanuova.it
SUMMARY:"BeComedy a Genova" @Stradanuova Teatro Centrale
DESCRIPTION:
URL:https://www.teatrostradanuova.it/spettacolo/be-comedy-genova-comicity-festival-2023/
CATEGORIES:2022/2023,Comicity Festival 5a edizione
ATTACH;FMTTYPE=image/jpeg:https://www.teatrostradanuova.it/wp-content/uploads/2023/06/Be-comedy-a-genova-e1685738738201.jpg
END:VEVENT
BEGIN:VEVENT
DTSTART;TZID=Europe/Paris:20230714T210000
DTEND;TZID=Europe/Paris:20230714T230000
DTSTAMP:20260420T114216
CREATED:20230605T150034Z
LAST-MODIFIED:20230711T080559Z
UID:3184-1689368400-1689375600@www.teatrostradanuova.it
SUMMARY:"Paci e Bene" @Giardino Mentelocale Bistrot a Palazzo Rosso
DESCRIPTION:
URL:https://www.teatrostradanuova.it/spettacolo/enzo-paci-genova-paci-e-bene-comicity-festival-2023/
CATEGORIES:2022/2023,Comicity Festival 5a edizione
ATTACH;FMTTYPE=image/jpeg:https://www.teatrostradanuova.it/wp-content/uploads/2023/06/IMG_4456-scaled-e1685738970658.jpg
END:VEVENT
END:VCALENDAR