BEGIN:VCALENDAR
VERSION:2.0
PRODID:-//Teatro Stradanuova - ECPv5.9.0//NONSGML v1.0//EN
CALSCALE:GREGORIAN
METHOD:PUBLISH
X-WR-CALNAME:Teatro Stradanuova
X-ORIGINAL-URL:https://www.teatrostradanuova.it
X-WR-CALDESC:Eventi per Teatro Stradanuova
BEGIN:VTIMEZONE
TZID:Europe/Helsinki
BEGIN:DAYLIGHT
TZOFFSETFROM:+0200
TZOFFSETTO:+0300
TZNAME:EEST
DTSTART:20220327T010000
END:DAYLIGHT
BEGIN:STANDARD
TZOFFSETFROM:+0300
TZOFFSETTO:+0200
TZNAME:EET
DTSTART:20221030T010000
END:STANDARD
END:VTIMEZONE
BEGIN:VEVENT
DTSTART;TZID=Europe/Helsinki:20220312T210000
DTEND;TZID=Europe/Helsinki:20220312T230000
DTSTAMP:20260419T221215
CREATED:20211218T133406Z
LAST-MODIFIED:20220110T212113Z
UID:2087-1647118800-1647126000@www.teatrostradanuova.it
SUMMARY:Barabba - Corso di sopravvivenza al paese reale
DESCRIPTION:
URL:https://www.teatrostradanuova.it/spettacolo/barabba-il-terzo-segreto-di-satira/
CATEGORIES:2021/2022
ATTACH;FMTTYPE=image/png:https://www.teatrostradanuova.it/wp-content/uploads/2021/12/il-terzo-segreto-di-satira-e1639830641311.png
END:VEVENT
END:VCALENDAR