BEGIN:VCALENDAR
VERSION:2.0
PRODID:-//Teatro Stradanuova - ECPv5.9.0//NONSGML v1.0//EN
CALSCALE:GREGORIAN
METHOD:PUBLISH
X-WR-CALNAME:Teatro Stradanuova
X-ORIGINAL-URL:https://www.teatrostradanuova.it
X-WR-CALDESC:Eventi per Teatro Stradanuova
BEGIN:VTIMEZONE
TZID:Europe/Helsinki
BEGIN:DAYLIGHT
TZOFFSETFROM:+0200
TZOFFSETTO:+0300
TZNAME:EEST
DTSTART:20220327T010000
END:DAYLIGHT
BEGIN:STANDARD
TZOFFSETFROM:+0300
TZOFFSETTO:+0200
TZNAME:EET
DTSTART:20221030T010000
END:STANDARD
END:VTIMEZONE
BEGIN:VEVENT
DTSTART;TZID=Europe/Helsinki:20220305T210000
DTEND;TZID=Europe/Helsinki:20220305T230000
DTSTAMP:20260419T221216
CREATED:20211218T145118Z
LAST-MODIFIED:20220131T205830Z
UID:2127-1646514000-1646521200@www.teatrostradanuova.it
SUMMARY:Fabio Celenza Live + Canto i Muri con Chibo
DESCRIPTION:
URL:https://www.teatrostradanuova.it/spettacolo/fabio-celenza-chibo-canto-i-muri/
CATEGORIES:2021/2022
ATTACH;FMTTYPE=image/png:https://www.teatrostradanuova.it/wp-content/uploads/2021/12/fabio-celenza-e1639835321422.png
END:VEVENT
END:VCALENDAR