BEGIN:VCALENDAR
VERSION:2.0
PRODID:-//Teatro Stradanuova - ECPv5.9.0//NONSGML v1.0//EN
CALSCALE:GREGORIAN
METHOD:PUBLISH
X-WR-CALNAME:Teatro Stradanuova
X-ORIGINAL-URL:https://www.teatrostradanuova.it
X-WR-CALDESC:Eventi per Teatro Stradanuova
BEGIN:VTIMEZONE
TZID:Europe/Helsinki
BEGIN:DAYLIGHT
TZOFFSETFROM:+0200
TZOFFSETTO:+0300
TZNAME:EEST
DTSTART:20220327T010000
END:DAYLIGHT
BEGIN:STANDARD
TZOFFSETFROM:+0300
TZOFFSETTO:+0200
TZNAME:EET
DTSTART:20221030T010000
END:STANDARD
END:VTIMEZONE
BEGIN:VEVENT
DTSTART;VALUE=DATE:20220123
DTEND;VALUE=DATE:20220131
DTSTAMP:20260419T234213
CREATED:20220110T214159Z
LAST-MODIFIED:20220113T212312Z
UID:2177-1642896000-1643587199@www.teatrostradanuova.it
SUMMARY:E qualcosa rimane - Laboratorio di scrittura di sè a cura di Officina Letteraria
DESCRIPTION:
URL:https://www.teatrostradanuova.it/spettacolo/e-qualcosa-rimane/
CATEGORIES:Altri eventi
ATTACH;FMTTYPE=image/jpeg:https://www.teatrostradanuova.it/wp-content/uploads/2022/01/e-qualcosa-rimane.jpg
END:VEVENT
BEGIN:VEVENT
DTSTART;TZID=Europe/Helsinki:20220129T210000
DTEND;TZID=Europe/Helsinki:20220129T230000
DTSTAMP:20260419T234213
CREATED:20211218T140144Z
LAST-MODIFIED:20211218T203952Z
UID:2099-1643490000-1643497200@www.teatrostradanuova.it
SUMMARY:Pochi\, maledetti e subito
DESCRIPTION:e
URL:https://www.teatrostradanuova.it/spettacolo/pochi-maledetti-e-subito-fabrizio-casalino/
CATEGORIES:2021/2022
ATTACH;FMTTYPE=image/jpeg:https://www.teatrostradanuova.it/wp-content/uploads/2021/12/casalino-1-e1639856277440.jpeg
END:VEVENT
END:VCALENDAR