BEGIN:VCALENDAR
VERSION:2.0
PRODID:-//Teatro Stradanuova - ECPv5.9.0//NONSGML v1.0//EN
CALSCALE:GREGORIAN
METHOD:PUBLISH
X-WR-CALNAME:Teatro Stradanuova
X-ORIGINAL-URL:https://www.teatrostradanuova.it
X-WR-CALDESC:Eventi per Teatro Stradanuova
BEGIN:VTIMEZONE
TZID:Europe/Helsinki
BEGIN:DAYLIGHT
TZOFFSETFROM:+0200
TZOFFSETTO:+0300
TZNAME:EEST
DTSTART:20220327T010000
END:DAYLIGHT
BEGIN:STANDARD
TZOFFSETFROM:+0300
TZOFFSETTO:+0200
TZNAME:EET
DTSTART:20221030T010000
END:STANDARD
END:VTIMEZONE
BEGIN:VEVENT
DTSTART;TZID=Europe/Helsinki:20220122T210000
DTEND;TZID=Europe/Helsinki:20220122T230000
DTSTAMP:20260419T234210
CREATED:20211218T135650Z
LAST-MODIFIED:20211218T142600Z
UID:2096-1642885200-1642892400@www.teatrostradanuova.it
SUMMARY:LockUp: L'indicibile - Nando Timoteo intervista Enzo Paci
DESCRIPTION:
URL:https://www.teatrostradanuova.it/spettacolo/lockup-timoteo-enzo-paci/
CATEGORIES:2021/2022
ATTACH;FMTTYPE=image/jpeg:https://www.teatrostradanuova.it/wp-content/uploads/2021/12/lockup_low.jpg
END:VEVENT
END:VCALENDAR