BEGIN:VCALENDAR
VERSION:2.0
PRODID:-//Teatro Stradanuova - ECPv5.9.0//NONSGML v1.0//EN
CALSCALE:GREGORIAN
METHOD:PUBLISH
X-WR-CALNAME:Teatro Stradanuova
X-ORIGINAL-URL:https://www.teatrostradanuova.it
X-WR-CALDESC:Eventi per Teatro Stradanuova
BEGIN:VTIMEZONE
TZID:Europe/Helsinki
BEGIN:DAYLIGHT
TZOFFSETFROM:+0200
TZOFFSETTO:+0300
TZNAME:EEST
DTSTART:20220327T010000
END:DAYLIGHT
BEGIN:STANDARD
TZOFFSETFROM:+0300
TZOFFSETTO:+0200
TZNAME:EET
DTSTART:20221030T010000
END:STANDARD
END:VTIMEZONE
BEGIN:VEVENT
DTSTART;VALUE=DATE:20220115
DTEND;VALUE=DATE:20220117
DTSTAMP:20260419T234221
CREATED:20220110T213152Z
LAST-MODIFIED:20220110T213152Z
UID:2173-1642204800-1642377599@www.teatrostradanuova.it
SUMMARY:La mia sfiga può farti ridere - workshop di comicità
DESCRIPTION:
URL:https://www.teatrostradanuova.it/spettacolo/la-mia-sfiga-workshop/
CATEGORIES:Altri eventi
ATTACH;FMTTYPE=image/jpeg:https://www.teatrostradanuova.it/wp-content/uploads/2021/11/Antonio-Ornano-e1636888593818.jpg
END:VEVENT
BEGIN:VEVENT
DTSTART;TZID=Europe/Helsinki:20220115T210000
DTEND;TZID=Europe/Helsinki:20220115T230000
DTSTAMP:20260419T234221
CREATED:20211218T134610Z
LAST-MODIFIED:20211218T134610Z
UID:2094-1642280400-1642287600@www.teatrostradanuova.it
SUMMARY:Dieci
DESCRIPTION:
URL:https://www.teatrostradanuova.it/spettacolo/dieci-filippo-giardina/
CATEGORIES:2021/2022
ATTACH;FMTTYPE=image/png:https://www.teatrostradanuova.it/wp-content/uploads/2021/12/Filippo-Giardina-e1639831399973.png
END:VEVENT
END:VCALENDAR