BEGIN:VCALENDAR
VERSION:2.0
PRODID:-//Teatro Stradanuova - ECPv5.9.0//NONSGML v1.0//EN
CALSCALE:GREGORIAN
METHOD:PUBLISH
X-WR-CALNAME:Teatro Stradanuova
X-ORIGINAL-URL:https://www.teatrostradanuova.it
X-WR-CALDESC:Eventi per Teatro Stradanuova
BEGIN:VTIMEZONE
TZID:Europe/Helsinki
BEGIN:DAYLIGHT
TZOFFSETFROM:+0200
TZOFFSETTO:+0300
TZNAME:EEST
DTSTART:20200329T010000
END:DAYLIGHT
BEGIN:STANDARD
TZOFFSETFROM:+0300
TZOFFSETTO:+0200
TZNAME:EET
DTSTART:20201025T010000
END:STANDARD
END:VTIMEZONE
BEGIN:VEVENT
DTSTART;TZID=Europe/Helsinki:20201005T080000
DTEND;TZID=Europe/Helsinki:20201005T170000
DTSTAMP:20260423T012206
CREATED:20210913T160159Z
LAST-MODIFIED:20210921T113636Z
UID:186-1601884800-1601917200@www.teatrostradanuova.it
SUMMARY:Alessandro Ciacci\, con una “F”
DESCRIPTION:
URL:https://www.teatrostradanuova.it/spettacolo/alessandro-ciacci-con-una-f/
CATEGORIES:2020/2021
ATTACH;FMTTYPE=image/jpeg:https://www.teatrostradanuova.it/wp-content/uploads/2021/09/ciacci-1920.jpg
END:VEVENT
BEGIN:VEVENT
DTSTART;TZID=Europe/Helsinki:20201005T080000
DTEND;TZID=Europe/Helsinki:20201005T170000
DTSTAMP:20260423T012206
CREATED:20210913T161717Z
LAST-MODIFIED:20210921T113014Z
UID:190-1601884800-1601917200@www.teatrostradanuova.it
SUMMARY:Faccia di Cane e altre Bestie
DESCRIPTION:
URL:https://www.teatrostradanuova.it/spettacolo/faccia-di-cane-e-altre-bestie/
CATEGORIES:2020/2021
ATTACH;FMTTYPE=image/jpeg:https://www.teatrostradanuova.it/wp-content/uploads/2021/09/bianchi-1920x1080-1.jpg
END:VEVENT
END:VCALENDAR