BEGIN:VCALENDAR
VERSION:2.0
PRODID:-//Teatro Stradanuova - ECPv5.9.0//NONSGML v1.0//EN
CALSCALE:GREGORIAN
METHOD:PUBLISH
X-WR-CALNAME:Teatro Stradanuova
X-ORIGINAL-URL:https://www.teatrostradanuova.it
X-WR-CALDESC:Eventi per Teatro Stradanuova
BEGIN:VTIMEZONE
TZID:Europe/Helsinki
BEGIN:DAYLIGHT
TZOFFSETFROM:+0200
TZOFFSETTO:+0300
TZNAME:EEST
DTSTART:20200329T010000
END:DAYLIGHT
BEGIN:STANDARD
TZOFFSETFROM:+0300
TZOFFSETTO:+0200
TZNAME:EET
DTSTART:20201025T010000
END:STANDARD
END:VTIMEZONE
BEGIN:VEVENT
DTSTART;TZID=Europe/Helsinki:20200909T080000
DTEND;TZID=Europe/Helsinki:20200909T170000
DTSTAMP:20260423T030420
CREATED:20210913T162836Z
LAST-MODIFIED:20210921T115251Z
UID:210-1599638400-1599670800@www.teatrostradanuova.it
SUMMARY:Luca Ravenna – “Rodrigo Live”
DESCRIPTION:
URL:https://www.teatrostradanuova.it/spettacolo/luca-ravenna-rodrigo-live/
CATEGORIES:2020/2021
ATTACH;FMTTYPE=image/jpeg:https://www.teatrostradanuova.it/wp-content/uploads/2021/09/ravenna-1920.jpg
END:VEVENT
END:VCALENDAR