BEGIN:VCALENDAR
VERSION:2.0
PRODID:-//Teatro Stradanuova - ECPv5.9.0//NONSGML v1.0//EN
CALSCALE:GREGORIAN
METHOD:PUBLISH
X-WR-CALNAME:Teatro Stradanuova
X-ORIGINAL-URL:https://www.teatrostradanuova.it
X-WR-CALDESC:Eventi per Teatro Stradanuova
BEGIN:VTIMEZONE
TZID:Europe/Helsinki
BEGIN:DAYLIGHT
TZOFFSETFROM:+0200
TZOFFSETTO:+0300
TZNAME:EEST
DTSTART:20200329T010000
END:DAYLIGHT
BEGIN:STANDARD
TZOFFSETFROM:+0300
TZOFFSETTO:+0200
TZNAME:EET
DTSTART:20201025T010000
END:STANDARD
END:VTIMEZONE
BEGIN:VEVENT
DTSTART;TZID=Europe/Helsinki:20200407T080000
DTEND;TZID=Europe/Helsinki:20200407T170000
DTSTAMP:20260423T113100
CREATED:20210913T163503Z
LAST-MODIFIED:20210921T135621Z
UID:216-1586246400-1586278800@www.teatrostradanuova.it
SUMMARY:La Dodicesima Notte di William Shakespeare
DESCRIPTION:
URL:https://www.teatrostradanuova.it/spettacolo/la-dodicesima-notte-di-william-shakespeare/
CATEGORIES:2019/2020
ATTACH;FMTTYPE=image/jpeg:https://www.teatrostradanuova.it/wp-content/uploads/2021/09/La-Dodicesima-Notte.jpg
END:VEVENT
BEGIN:VEVENT
DTSTART;TZID=Europe/Helsinki:20200407T080000
DTEND;TZID=Europe/Helsinki:20200407T170000
DTSTAMP:20260423T113100
CREATED:20210913T164054Z
LAST-MODIFIED:20210921T135313Z
UID:222-1586246400-1586278800@www.teatrostradanuova.it
SUMMARY:Cari Mostri Vol. 2 di Stefano Benni
DESCRIPTION:
URL:https://www.teatrostradanuova.it/spettacolo/cari-mostri-vol-2-di-stefano-benni/
CATEGORIES:2019/2020
ATTACH;FMTTYPE=image/jpeg:https://www.teatrostradanuova.it/wp-content/uploads/2021/09/cari-mostri-web-8.jpg
END:VEVENT
BEGIN:VEVENT
DTSTART;TZID=Europe/Helsinki:20200407T080000
DTEND;TZID=Europe/Helsinki:20200407T170000
DTSTAMP:20260423T113100
CREATED:20210913T164444Z
LAST-MODIFIED:20210921T133844Z
UID:225-1586246400-1586278800@www.teatrostradanuova.it
SUMMARY:La Stanza dei Giochi
DESCRIPTION:
URL:https://www.teatrostradanuova.it/spettacolo/la-stanza-dei-giochi/
CATEGORIES:2019/2020
ATTACH;FMTTYPE=image/jpeg:https://www.teatrostradanuova.it/wp-content/uploads/2021/09/16318041156_a1ab6e321c_k.jpg
END:VEVENT
BEGIN:VEVENT
DTSTART;TZID=Europe/Helsinki:20200407T080000
DTEND;TZID=Europe/Helsinki:20200407T170000
DTSTAMP:20260423T113100
CREATED:20210913T164625Z
LAST-MODIFIED:20210921T133512Z
UID:228-1586246400-1586278800@www.teatrostradanuova.it
SUMMARY:Stand Up & Songs con Ruggero De I Timidi
DESCRIPTION:
URL:https://www.teatrostradanuova.it/spettacolo/stand-up-songs-con-ruggero-de-i-timidi/
CATEGORIES:2019/2020
ATTACH;FMTTYPE=image/jpeg:https://www.teatrostradanuova.it/wp-content/uploads/2021/09/Ruggero-de-i-Timidi.jpg
END:VEVENT
BEGIN:VEVENT
DTSTART;TZID=Europe/Helsinki:20200407T080000
DTEND;TZID=Europe/Helsinki:20200407T170000
DTSTAMP:20260423T113100
CREATED:20210913T164935Z
LAST-MODIFIED:20210921T133337Z
UID:231-1586246400-1586278800@www.teatrostradanuova.it
SUMMARY:Processo a Woody Allen con Alessandro Ciacci
DESCRIPTION:
URL:https://www.teatrostradanuova.it/spettacolo/processo-a-woody-allen-con-alessandro-ciacci/
CATEGORIES:2019/2020
ATTACH;FMTTYPE=image/png:https://www.teatrostradanuova.it/wp-content/uploads/2021/09/woody-allen-1920.png
END:VEVENT
BEGIN:VEVENT
DTSTART;TZID=Europe/Helsinki:20200407T080000
DTEND;TZID=Europe/Helsinki:20200407T170000
DTSTAMP:20260423T113100
CREATED:20210913T165115Z
LAST-MODIFIED:20210921T132628Z
UID:234-1586246400-1586278800@www.teatrostradanuova.it
SUMMARY:Ginnastica\, Dieta e Sesso per Tardone
DESCRIPTION:
URL:https://www.teatrostradanuova.it/spettacolo/ginnastica-dieta-e-sesso-per-tardone/
CATEGORIES:2019/2020
ATTACH;FMTTYPE=image/jpeg:https://www.teatrostradanuova.it/wp-content/uploads/2021/09/sesso-per-tardone-the-day-after.jpg
END:VEVENT
END:VCALENDAR