BEGIN:VCALENDAR
VERSION:2.0
PRODID:-//Teatro Stradanuova - ECPv5.9.0//NONSGML v1.0//EN
CALSCALE:GREGORIAN
METHOD:PUBLISH
X-WR-CALNAME:Teatro Stradanuova
X-ORIGINAL-URL:https://www.teatrostradanuova.it
X-WR-CALDESC:Eventi per Teatro Stradanuova
BEGIN:VTIMEZONE
TZID:Europe/Helsinki
BEGIN:DAYLIGHT
TZOFFSETFROM:+0200
TZOFFSETTO:+0300
TZNAME:EEST
DTSTART:20190331T010000
END:DAYLIGHT
BEGIN:STANDARD
TZOFFSETFROM:+0300
TZOFFSETTO:+0200
TZNAME:EET
DTSTART:20191027T010000
END:STANDARD
END:VTIMEZONE
BEGIN:VEVENT
DTSTART;TZID=Europe/Helsinki:20191230T080000
DTEND;TZID=Europe/Helsinki:20191230T170000
DTSTAMP:20260423T152026
CREATED:20210913T170948Z
LAST-MODIFIED:20210921T142236Z
UID:262-1577692800-1577725200@www.teatrostradanuova.it
SUMMARY:Michela Giraud e Altri Animali
DESCRIPTION:
URL:https://www.teatrostradanuova.it/spettacolo/michela-giraud-e-altri-animali/
CATEGORIES:2019/2020
ATTACH;FMTTYPE=image/jpeg:https://www.teatrostradanuova.it/wp-content/uploads/2021/09/1920x1080-michela-giraud-1200x675-1.jpg
END:VEVENT
END:VCALENDAR