BEGIN:VCALENDAR
VERSION:2.0
PRODID:-//Teatro Stradanuova - ECPv5.9.0//NONSGML v1.0//EN
CALSCALE:GREGORIAN
METHOD:PUBLISH
X-WR-CALNAME:Teatro Stradanuova
X-ORIGINAL-URL:https://www.teatrostradanuova.it
X-WR-CALDESC:Eventi per Teatro Stradanuova
BEGIN:VTIMEZONE
TZID:Europe/Helsinki
BEGIN:DAYLIGHT
TZOFFSETFROM:+0200
TZOFFSETTO:+0300
TZNAME:EEST
DTSTART:20190331T010000
END:DAYLIGHT
BEGIN:STANDARD
TZOFFSETFROM:+0300
TZOFFSETTO:+0200
TZNAME:EET
DTSTART:20191027T010000
END:STANDARD
END:VTIMEZONE
BEGIN:VEVENT
DTSTART;TZID=Europe/Helsinki:20191213T080000
DTEND;TZID=Europe/Helsinki:20191214T170000
DTSTAMP:20260423T163441
CREATED:20210914T082410Z
LAST-MODIFIED:20210921T170949Z
UID:271-1576224000-1576342800@www.teatrostradanuova.it
SUMMARY:Sono Una Frana!
DESCRIPTION:[vc_row type=”full_width_content” full_screen_row_position=”middle” column_margin=”default” column_direction=”default” column_direction_tablet=”default” column_direction_phone=”default” scene_position=”center” bottom_padding=”2%” text_color=”dark” text_align=”left” row_border_radius=”none” row_border_radius_applies=”bg” overlay_strength=”0.3″ gradient_direction=”left_to_right” shape_divider_position=”bottom” bg_image_animation=”none” shape_type=””][vc_column column_padding=”no-extra-padding” column_padding_tablet=”inherit” column_padding_phone=”inherit” column_padding_position=”all” column_element_spacing=”default” background_color_opacity=”1″ background_hover_color_opacity=”1″ column_shadow=”none” column_border_radius=”none” column_link_target=”_self” gradient_direction=”left_to_right” overlay_strength=”0.3″ width=”1/1″ tablet_width_inherit=”default” tablet_text_alignment=”default” phone_text_alignment=”default” bg_image_animation=”none” border_type=”simple” column_border_width=”none” column_border_style=”solid”][vc_gallery type=”flickity_static_height_style” images=”1080\,1109\,1108\,1107\,1106\,1105\,1104\,1103\,1102\,1101\,1100\,1099\,1098\,1097\,1096\,1095\,1094\,1093\,1092\,1091\,1090\,1089\,1088\,1087\,1086\,1085\,1084\,1083\,1082\,1081″ flickity_spacing=”default” flickity_controls=”touch_total” flickity_overflow=”hidden” flickity_wrap_around=”wrap” flickity_free_scroll=”true” flickity_box_shadow=”none” image_loading=”default” onclick=”link_no”][/vc_column][/vc_row]
URL:https://www.teatrostradanuova.it/spettacolo/sono-una-frana/
CATEGORIES:2019/2020
ATTACH;FMTTYPE=image/jpeg:https://www.teatrostradanuova.it/wp-content/uploads/2021/09/sono-una-frana.jpg
END:VEVENT
END:VCALENDAR