BEGIN:VCALENDAR
VERSION:2.0
PRODID:-//Teatro Stradanuova - ECPv5.9.0//NONSGML v1.0//EN
CALSCALE:GREGORIAN
METHOD:PUBLISH
X-WR-CALNAME:Teatro Stradanuova
X-ORIGINAL-URL:https://www.teatrostradanuova.it
X-WR-CALDESC:Eventi per Teatro Stradanuova
BEGIN:VTIMEZONE
TZID:Europe/Helsinki
BEGIN:DAYLIGHT
TZOFFSETFROM:+0200
TZOFFSETTO:+0300
TZNAME:EEST
DTSTART:20190331T010000
END:DAYLIGHT
BEGIN:STANDARD
TZOFFSETFROM:+0300
TZOFFSETTO:+0200
TZNAME:EET
DTSTART:20191027T010000
END:STANDARD
END:VTIMEZONE
BEGIN:VEVENT
DTSTART;TZID=Europe/Helsinki:20191205T080000
DTEND;TZID=Europe/Helsinki:20191205T170000
DTSTAMP:20260423T163441
CREATED:20210913T171342Z
LAST-MODIFIED:20210921T143045Z
UID:267-1575532800-1575565200@www.teatrostradanuova.it
SUMMARY:Pandolce VS Panettone – Sfida di Cabaret Genova-Milano
DESCRIPTION:
URL:https://www.teatrostradanuova.it/spettacolo/pandolce-vs-panettone-sfida-di-cabaret-genova-milano/
CATEGORIES:2019/2020
ATTACH;FMTTYPE=image/jpeg:https://www.teatrostradanuova.it/wp-content/uploads/2021/09/pandolce-vs-panettone-sfida-di-cabaret-genova-milano.jpg
END:VEVENT
BEGIN:VEVENT
DTSTART;TZID=Europe/Helsinki:20191205T080000
DTEND;TZID=Europe/Helsinki:20191205T170000
DTSTAMP:20260423T163441
CREATED:20210914T082631Z
LAST-MODIFIED:20210921T142828Z
UID:277-1575532800-1575565200@www.teatrostradanuova.it
SUMMARY:Natale in Casa Folletto
DESCRIPTION:
URL:https://www.teatrostradanuova.it/spettacolo/natale-in-casa-folletto/
CATEGORIES:2019/2020
ATTACH;FMTTYPE=image/jpeg:https://www.teatrostradanuova.it/wp-content/uploads/2021/09/natale-in-casa-folletto.jpg
END:VEVENT
END:VCALENDAR