BEGIN:VCALENDAR
VERSION:2.0
PRODID:-//Teatro Stradanuova - ECPv5.9.0//NONSGML v1.0//EN
CALSCALE:GREGORIAN
METHOD:PUBLISH
X-WR-CALNAME:Teatro Stradanuova
X-ORIGINAL-URL:https://www.teatrostradanuova.it
X-WR-CALDESC:Eventi per Teatro Stradanuova
BEGIN:VTIMEZONE
TZID:Europe/Helsinki
BEGIN:DAYLIGHT
TZOFFSETFROM:+0200
TZOFFSETTO:+0300
TZNAME:EEST
DTSTART:20190331T010000
END:DAYLIGHT
BEGIN:STANDARD
TZOFFSETFROM:+0300
TZOFFSETTO:+0200
TZNAME:EET
DTSTART:20191027T010000
END:STANDARD
END:VTIMEZONE
BEGIN:VEVENT
DTSTART;TZID=Europe/Helsinki:20191019T080000
DTEND;TZID=Europe/Helsinki:20191019T170000
DTSTAMP:20260423T191601
CREATED:20210914T095357Z
LAST-MODIFIED:20210921T144733Z
UID:364-1571472000-1571504400@www.teatrostradanuova.it
SUMMARY:“La sagra del classico” con Bergallo & Barbini
DESCRIPTION:
URL:https://www.teatrostradanuova.it/spettacolo/la-sagra-del-classico-con-bergallo-barbini/
CATEGORIES:2019/2018
ATTACH;FMTTYPE=image/jpeg:https://www.teatrostradanuova.it/wp-content/uploads/2021/09/stradanuova_sagra-del-classico_web-800px.jpg
END:VEVENT
END:VCALENDAR