BEGIN:VCALENDAR
VERSION:2.0
PRODID:-//Teatro Stradanuova - ECPv5.9.0//NONSGML v1.0//EN
CALSCALE:GREGORIAN
METHOD:PUBLISH
X-WR-CALNAME:Teatro Stradanuova
X-ORIGINAL-URL:https://www.teatrostradanuova.it
X-WR-CALDESC:Eventi per Teatro Stradanuova
BEGIN:VTIMEZONE
TZID:Europe/Helsinki
BEGIN:DAYLIGHT
TZOFFSETFROM:+0200
TZOFFSETTO:+0300
TZNAME:EEST
DTSTART:20190331T010000
END:DAYLIGHT
BEGIN:STANDARD
TZOFFSETFROM:+0300
TZOFFSETTO:+0200
TZNAME:EET
DTSTART:20191027T010000
END:STANDARD
END:VTIMEZONE
BEGIN:VEVENT
DTSTART;TZID=Europe/Helsinki:20190517T080000
DTEND;TZID=Europe/Helsinki:20190517T170000
DTSTAMP:20260424T020119
CREATED:20210914T084618Z
LAST-MODIFIED:20210921T144900Z
UID:285-1558080000-1558112400@www.teatrostradanuova.it
SUMMARY:Questa casa non è un albergo! con Davide Calgaro
DESCRIPTION:
URL:https://www.teatrostradanuova.it/spettacolo/questa-casa-non-e-un-albergo-con-davide-calgaro/
CATEGORIES:2019/2018
ATTACH;FMTTYPE=image/jpeg:https://www.teatrostradanuova.it/wp-content/uploads/2021/09/calgaro_1920x1080.jpg
END:VEVENT
END:VCALENDAR